BEGIN:VCALENDAR
VERSION:2.0
PRODID:-//No Acres Creations - ECPv6.6.0.2//NONSGML v1.0//EN
CALSCALE:GREGORIAN
METHOD:PUBLISH
X-WR-CALNAME:No Acres Creations
X-ORIGINAL-URL:https://noacrescreations.com
X-WR-CALDESC:Events for No Acres Creations
REFRESH-INTERVAL;VALUE=DURATION:PT1H
X-Robots-Tag:noindex
X-PUBLISHED-TTL:PT1H
BEGIN:VTIMEZONE
TZID:America/Chicago
BEGIN:DAYLIGHT
TZOFFSETFROM:-0600
TZOFFSETTO:-0500
TZNAME:CDT
DTSTART:20240310T080000
END:DAYLIGHT
BEGIN:STANDARD
TZOFFSETFROM:-0500
TZOFFSETTO:-0600
TZNAME:CST
DTSTART:20241103T070000
END:STANDARD
END:VTIMEZONE
BEGIN:VEVENT
DTSTART;TZID=America/Chicago:20241019T120000
DTEND;TZID=America/Chicago:20241019T170000
DTSTAMP:20260422T224930
CREATED:20240818T193749Z
LAST-MODIFIED:20240818T193832Z
UID:1915-1729339200-1729357200@noacrescreations.com
SUMMARY:Pumpkin Fest @ Paschall Park
DESCRIPTION:Come join us at Paschall Park for Pumpkin Fest to enjoy all the fall festivities instore! The event is scheduled for Saturday\, October 19th\, 2024 and goes from 12:00 PM to 5:00 PM. They have all kinds of fun actives for the whole family such as: Live Music\, 26ft tall Rock-climbing wall\, Carnival rides\, Face painting\, Hayride with themed decor\, Arts & Crafts\, & Much More!
URL:https://noacrescreations.com/event/pumpkin-fest-paschall-park/
LOCATION:Pumpkin Fest @ Paschall Park\, 1001 New Market Rd.\, Mesquite\, Texas\, 75149
ATTACH;FMTTYPE=image/jpeg:https://noacrescreations.com/wp-content/uploads/2024/08/Pumpkin-Fest-scaled.jpeg
END:VEVENT
END:VCALENDAR