BEGIN:VCALENDAR
VERSION:2.0
PRODID:-//No Acres Creations - ECPv6.6.0.2//NONSGML v1.0//EN
CALSCALE:GREGORIAN
METHOD:PUBLISH
X-ORIGINAL-URL:https://noacrescreations.com
X-WR-CALDESC:Events for No Acres Creations
REFRESH-INTERVAL;VALUE=DURATION:PT1H
X-Robots-Tag:noindex
X-PUBLISHED-TTL:PT1H
BEGIN:VTIMEZONE
TZID:America/Chicago
BEGIN:DAYLIGHT
TZOFFSETFROM:-0600
TZOFFSETTO:-0500
TZNAME:CDT
DTSTART:20240310T080000
END:DAYLIGHT
BEGIN:STANDARD
TZOFFSETFROM:-0500
TZOFFSETTO:-0600
TZNAME:CST
DTSTART:20241103T070000
END:STANDARD
END:VTIMEZONE
BEGIN:VEVENT
DTSTART;TZID=America/Chicago:20241102T100000
DTEND;TZID=America/Chicago:20241102T160000
DTSTAMP:20260422T204547
CREATED:20240818T201641Z
LAST-MODIFIED:20240818T201641Z
UID:1936-1730541600-1730563200@noacrescreations.com
SUMMARY:Midlothian High School Mistletoe Market
DESCRIPTION:This cute little market features of creative crafts and many more items gets you ready for the holiday season\, as well as helps out the Midlothian Cheer Team. So come on out and shop for a good cause!
URL:https://noacrescreations.com/event/midlothian-high-school-mistletoe-market/
LOCATION:Midlothian High School Mistletoe Market\, Midlothian High School\, 923 S 9th\, Midlothian\, Texas\, 76065
ATTACH;FMTTYPE=image/jpeg:https://noacrescreations.com/wp-content/uploads/2024/08/FB_IMG_1724011726736.jpg
END:VEVENT
END:VCALENDAR