BEGIN:VCALENDAR
VERSION:2.0
PRODID:-//No Acres Creations - ECPv6.6.0.2//NONSGML v1.0//EN
CALSCALE:GREGORIAN
METHOD:PUBLISH
X-ORIGINAL-URL:https://noacrescreations.com
X-WR-CALDESC:Events for No Acres Creations
REFRESH-INTERVAL;VALUE=DURATION:PT1H
X-Robots-Tag:noindex
X-PUBLISHED-TTL:PT1H
BEGIN:VTIMEZONE
TZID:America/Chicago
BEGIN:DAYLIGHT
TZOFFSETFROM:-0600
TZOFFSETTO:-0500
TZNAME:CDT
DTSTART:20240310T080000
END:DAYLIGHT
BEGIN:STANDARD
TZOFFSETFROM:-0500
TZOFFSETTO:-0600
TZNAME:CST
DTSTART:20241103T070000
END:STANDARD
END:VTIMEZONE
BEGIN:VEVENT
DTSTART;TZID=America/Chicago:20241102T100000
DTEND;TZID=America/Chicago:20241102T160000
DTSTAMP:20260422T205207
CREATED:20240818T201641Z
LAST-MODIFIED:20240818T201641Z
UID:1936-1730541600-1730563200@noacrescreations.com
SUMMARY:Midlothian High School Mistletoe Market
DESCRIPTION:This cute little market features of creative crafts and many more items gets you ready for the holiday season\, as well as helps out the Midlothian Cheer Team. So come on out and shop for a good cause!
URL:https://noacrescreations.com/event/midlothian-high-school-mistletoe-market/
LOCATION:Midlothian High School Mistletoe Market\, Midlothian High School\, 923 S 9th\, Midlothian\, Texas\, 76065
ATTACH;FMTTYPE=image/jpeg:https://noacrescreations.com/wp-content/uploads/2024/08/FB_IMG_1724011726736.jpg
END:VEVENT
BEGIN:VEVENT
DTSTART;TZID=America/Chicago:20241109T110000
DTEND;TZID=America/Chicago:20241109T160000
DTSTAMP:20260422T205207
CREATED:20240818T202332Z
LAST-MODIFIED:20240818T202332Z
UID:1941-1731150000-1731168000@noacrescreations.com
SUMMARY:British Bash & Christmas Market
DESCRIPTION:Come out to downtown Terrell and enjoy food\, music\, entertainment\, shopping\, adult beverage\, and fun!
URL:https://noacrescreations.com/event/british-bash-christmas-market/
LOCATION:British Bash & Christmas Market\, 201 E Nash St\, Terrell\, Texas\, 75160
ATTACH;FMTTYPE=image/jpeg:https://noacrescreations.com/wp-content/uploads/2024/08/British-Bash.jpg
END:VEVENT
BEGIN:VEVENT
DTSTART;TZID=America/Chicago:20241116T090000
DTEND;TZID=America/Chicago:20241116T130000
DTSTAMP:20260422T205207
CREATED:20240818T195938Z
LAST-MODIFIED:20240818T195938Z
UID:1929-1731747600-1731762000@noacrescreations.com
SUMMARY:Downtown Mesquite Farmers Market
DESCRIPTION:Enjoy local produce\, artisan goods\, live music\, food and more at this lively market in the heart of Downtown Mesquite.
URL:https://noacrescreations.com/event/downtown-mesquite-farmers-market-4/
LOCATION:Downtown Mesquite Farmers Market\, 100 W. Front Street\, Mesquite\, TX\, 75149\, United States
ATTACH;FMTTYPE=image/png:https://noacrescreations.com/wp-content/uploads/2024/07/Downtown-Mesquite.png
END:VEVENT
BEGIN:VEVENT
DTSTART;TZID=America/Chicago:20241123T090000
DTEND;TZID=America/Chicago:20241123T130000
DTSTAMP:20260422T205207
CREATED:20240818T200045Z
LAST-MODIFIED:20240818T200045Z
UID:1931-1732352400-1732366800@noacrescreations.com
SUMMARY:Downtown Mesquite Farmers Market
DESCRIPTION:Enjoy local produce\, artisan goods\, live music\, food and more at this lively market in the heart of Downtown Mesquite.
URL:https://noacrescreations.com/event/downtown-mesquite-farmers-market-5/
LOCATION:Downtown Mesquite Farmers Market\, 100 W. Front Street\, Mesquite\, TX\, 75149\, United States
ATTACH;FMTTYPE=image/png:https://noacrescreations.com/wp-content/uploads/2024/07/Downtown-Mesquite.png
END:VEVENT
END:VCALENDAR